BEGIN:VCALENDAR
VERSION:2.0
PRODID:-//Booth Western Art Museum - ECPv6.15.20//NONSGML v1.0//EN
CALSCALE:GREGORIAN
METHOD:PUBLISH
X-WR-CALNAME:Booth Western Art Museum
X-ORIGINAL-URL:https://boothmuseum.org
X-WR-CALDESC:Events for Booth Western Art Museum
REFRESH-INTERVAL;VALUE=DURATION:PT1H
X-Robots-Tag:noindex
X-PUBLISHED-TTL:PT1H
BEGIN:VTIMEZONE
TZID:America/New_York
BEGIN:DAYLIGHT
TZOFFSETFROM:-0500
TZOFFSETTO:-0400
TZNAME:EDT
DTSTART:20250309T070000
END:DAYLIGHT
BEGIN:STANDARD
TZOFFSETFROM:-0400
TZOFFSETTO:-0500
TZNAME:EST
DTSTART:20251102T060000
END:STANDARD
BEGIN:DAYLIGHT
TZOFFSETFROM:-0500
TZOFFSETTO:-0400
TZNAME:EDT
DTSTART:20260308T070000
END:DAYLIGHT
BEGIN:STANDARD
TZOFFSETFROM:-0400
TZOFFSETTO:-0500
TZNAME:EST
DTSTART:20261101T060000
END:STANDARD
BEGIN:DAYLIGHT
TZOFFSETFROM:-0500
TZOFFSETTO:-0400
TZNAME:EDT
DTSTART:20270314T070000
END:DAYLIGHT
BEGIN:STANDARD
TZOFFSETFROM:-0400
TZOFFSETTO:-0500
TZNAME:EST
DTSTART:20271107T060000
END:STANDARD
END:VTIMEZONE
BEGIN:VEVENT
DTSTART;TZID=America/New_York:20260427T080000
DTEND;TZID=America/New_York:20260427T170000
DTSTAMP:20260425T084008
CREATED:20231129T150621Z
LAST-MODIFIED:20231129T150621Z
UID:10000129-1777276800-1777309200@boothmuseum.org
SUMMARY:Museum Closed
DESCRIPTION:
URL:https://boothmuseum.org/event/museum-closed-445/2026-04-27/
LOCATION:GA
END:VEVENT
BEGIN:VEVENT
DTSTART;TZID=America/New_York:20260430T090000
DTEND;TZID=America/New_York:20260502T160000
DTSTAMP:20260425T084008
CREATED:20250506T180054Z
LAST-MODIFIED:20250506T180141Z
UID:10001461-1777539600-1777737600@boothmuseum.org
SUMMARY:BAA 3-Day Studio Landscape Workshop with Artist Kimball Geisler /"Landscape Painting Simplified - A Different Approach to Understanding Value"
DESCRIPTION:BAA 3-Day Studio Landscape Workshop with Artist Kimball Geisler / “Landscape Painting Simplified – A Different Approach to Understanding Value”\nThursday\, April 30 – Saturday\, May 2\, 2026\n9:00 AM – 4:00 PM \nThis workshop focuses on developing a strong framework for tackling the subject of value. Students will spend time understanding two different aspects of value: form and design. They’ll learn what these aspects are\, how they complement one another\, and how they detract from one another. Using value as a “lens” through which we can view other concepts in painting\, students will have a new perspective on other areas such as color\, edges\, composition\, and atmosphere. By the end of the workshop\, students will have a new powerful tool in their kit that can be broadly applied to any subject\, style\, or approach that they may take. www.kimballgeisler.com.  Beginner to advanced students.  Weather permitting\, students may paint outdoors at times.  \nMinimum of 8 students\, Maximum of 16 students\nFEE: $600.00 for Booth Museum Members\, $675.00 for not-yet-members \nTo learn more about the Booth Art Academy\, CLICK HERE.
URL:https://boothmuseum.org/event/baa-3-day-studio-landscape-workshop-with-artist-kimball-geisler-landscape-painting-simplified-a-different-approach-to-understanding-value/
LOCATION:Booth Art Academy @ TRC\, 1 N. Gilmer ST\, Cartersville\, GA\, 30120\, United States
ATTACH;FMTTYPE=image/jpeg:https://boothmuseum.org/wp-content/uploads/2025/04/kimball-geisler-scaled.jpg
END:VEVENT
END:VCALENDAR